BEGIN:VCALENDAR
VERSION:2.0
PRODID:-//MYTRAINER - ECPv6.15.20//NONSGML v1.0//EN
CALSCALE:GREGORIAN
METHOD:PUBLISH
X-ORIGINAL-URL:https://mytrainer.cc
X-WR-CALDESC:Events for MYTRAINER
REFRESH-INTERVAL;VALUE=DURATION:PT1H
X-Robots-Tag:noindex
X-PUBLISHED-TTL:PT1H
BEGIN:VTIMEZONE
TZID:Europe/Berlin
BEGIN:DAYLIGHT
TZOFFSETFROM:+0100
TZOFFSETTO:+0200
TZNAME:CEST
DTSTART:20170326T010000
END:DAYLIGHT
BEGIN:STANDARD
TZOFFSETFROM:+0200
TZOFFSETTO:+0100
TZNAME:CET
DTSTART:20171029T010000
END:STANDARD
BEGIN:DAYLIGHT
TZOFFSETFROM:+0100
TZOFFSETTO:+0200
TZNAME:CEST
DTSTART:20180325T010000
END:DAYLIGHT
BEGIN:STANDARD
TZOFFSETFROM:+0200
TZOFFSETTO:+0100
TZNAME:CET
DTSTART:20181028T010000
END:STANDARD
BEGIN:DAYLIGHT
TZOFFSETFROM:+0100
TZOFFSETTO:+0200
TZNAME:CEST
DTSTART:20190331T010000
END:DAYLIGHT
BEGIN:STANDARD
TZOFFSETFROM:+0200
TZOFFSETTO:+0100
TZNAME:CET
DTSTART:20191027T010000
END:STANDARD
BEGIN:DAYLIGHT
TZOFFSETFROM:+0100
TZOFFSETTO:+0200
TZNAME:CEST
DTSTART:20200329T010000
END:DAYLIGHT
BEGIN:STANDARD
TZOFFSETFROM:+0200
TZOFFSETTO:+0100
TZNAME:CET
DTSTART:20201025T010000
END:STANDARD
BEGIN:DAYLIGHT
TZOFFSETFROM:+0100
TZOFFSETTO:+0200
TZNAME:CEST
DTSTART:20210328T010000
END:DAYLIGHT
BEGIN:STANDARD
TZOFFSETFROM:+0200
TZOFFSETTO:+0100
TZNAME:CET
DTSTART:20211031T010000
END:STANDARD
END:VTIMEZONE
BEGIN:VEVENT
DTSTART;TZID=Europe/Berlin:20200527T163000
DTEND;TZID=Europe/Berlin:20200527T180000
DTSTAMP:20260424T121743
CREATED:20200513T144157Z
LAST-MODIFIED:20201024T113818Z
UID:224265-1590597000-1590602400@mytrainer.cc
SUMMARY:How I got out of my corona slumber
DESCRIPTION:Description:\nLet’s face it\, the quarantine measures have been tough on all of us. I personally got completely knocked off everything that was giving me a sort of balance before\, for weeks. In this session\, I will present the different challenges I faced and the techniques that helped me out of it and back into a state of flow. Being a trainer\, I wouldn’t\, of course\, leave it at a mere presentation\, so expect a few exercises on your journey\, that will end up in your personal plan for thriving out of corona! \nAbout Antonis Triantafyllakis:\nAs the director of MYTRAINER\, I combine experiential learning with gamification to ensure a holistic\, playful\, and impactful approach to capacity building\, adaptable to the learners’ needs. I believe in a world of equal rights and opportunities\, where young people are active global citizens that embrace diversity with empathy and are ready to build an innovative\, inclusive and sustainable future\, today. \nAs a soft skills trainer and facilitator\, I’ve been involved in various international youth work initiatives\, founded my own social enterprise\, and delivered over 600 hours of training on soft skills to over 1\,300 learners at more than 60 international events. \nFor more information about my work\, check out my website\, www.mytrainer.cc\, or my profile at http://trainers.salto-youth.net/AntonisTriantafyllakis/ \nAbout sense_month\nsense_month is a digital event series taking place in May 2020\, focusing on mental health and well-being. It aims to highlight the variety of ways we can better understand\, maintain\, and improve our mental and emotional well-being. Throughout May\, over 15 online events will be offered by experts and members from the global makesense community. \nsense_month is organised by volunteers from MakeSense Berlin. Find out more at www.sense-camp.org/sensemonth. \nREGISTRATION REQUIRED TO ATTEND!
URL:https://mytrainer.cc/event/sense_month_antonis/
LOCATION:Online
CATEGORIES:online event
ATTACH;FMTTYPE=image/jpeg:https://mytrainer.cc/wp-content/uploads/2020/05/97994715_127985232228585_7137314534380797952_n.jpg
END:VEVENT
BEGIN:VEVENT
DTSTART;TZID=Europe/Berlin:20200513T120000
DTEND;TZID=Europe/Berlin:20200513T130000
DTSTAMP:20260424T121743
CREATED:20200512T172958Z
LAST-MODIFIED:20221207T130006Z
UID:224256-1589371200-1589374800@mytrainer.cc
SUMMARY:Unconditional Basic Income: Emergency or Urgency?
DESCRIPTION:What is the role of Universal Basic income in the face of the COVID-19 crisis? Is it just an emergency policy\, or rather an urgent and more permanent measure that increases resilience in the face of emergencies? Let’s find out! \nI’m moderating this webinar\, hosted by the European Parliament as part of the EYE Online programme\, on behalf of Unconditional Basic Income Europe! \nTune in on Wednesday\, May 13\, at 12:00 CEST!
URL:https://mytrainer.cc/event/ubi-emergency/
LOCATION:Online
CATEGORIES:online event
ATTACH;FMTTYPE=image/jpeg:https://mytrainer.cc/wp-content/uploads/2020/05/income_FBlive_visual_Artboard_4-scaled.jpg
END:VEVENT
BEGIN:VEVENT
DTSTART;TZID=Europe/Berlin:20200227T190000
DTEND;TZID=Europe/Berlin:20200227T220000
DTSTAMP:20260424T121743
CREATED:20200203T154544Z
LAST-MODIFIED:20221207T130449Z
UID:224053-1582830000-1582840800@mytrainer.cc
SUMMARY:Gamification in Learning & Development
DESCRIPTION:Gamification stands for “applying game-design elements & game principles in non-game contexts” and this is what you will learn in this event \nBrought to you by BerLearn\, a network for HR professionals\, instructional designers\, universities\, LMS\, trainers\, coaches and consultants\, Learning & Development specialists\, edtech startups and anyone interested in the Future of Learning and Development in Germany\, skills shortage and innovation in corporate education. \nWhy employees would check their phones during a presentation of their HR Manager?\nWhat motivates people to take action and why is that action not always linked to learning and development?\nHave you ever wondered why students would rather play a video game than attend class?\nMore importantly\, how can you take advantage of what makes games so engaging and use it when designing a course? \nGamification stands for “applying game-design elements and game principles in non-game contexts” and this is what you will learn in this event. \nTrainer \nAntonis Triantafyllakis\, the founder of MYTRAINER\, has been using gamification in international youth work as well as in L&D for years\, and has prepared an interactive workshop in which you’ll get introduced to gamification in practice. He combines experiential learning with gamification to ensure a holistic\, playful and impactful approach to learning and development\, adaptable to your needs. Antonis believes in a world of equal rights and opportunities\, where young people are active global citizens that embrace diversity with empathy and are ready to build an innovative\, inclusive and sustainable future\, today. \nWhat you will learn: \n\nWhat motivates people to take action and how to trigger motivation.\nHow to apply gamification and behavioral design when designing a course.\nHow to apply gamification on YOUR OWN needs.\n\nHow you will learn: \nThis will be an intensive interactive workshop\, so you’ll be introduced to gamification in learning by doing manner. Do not expect a passive\, boring presentation; come ready for action! \nWe will also use a blended learning methodology\, so come with a device you feel comfortable using that can connect to WiFi (smartphone\, tablet or laptop). \nTarget audience: \nHR managers\, Learning and Development managers\, instructional designers\, trainers and anyone who is managing a team and has a keen interest in its development and engagement \nAgenda: \n\nIntroduction to gamification and related frameworks.\nYour own learning design needs and how gamification can be part of the solution.\nPLAY TIME! Or learning how to apply gamification by just doing it.\n\nGRAB YOUR FREE TICKET NOW!
URL:https://mytrainer.cc/event/gamification-ld-berlearn/
LOCATION:CIEE Global Institute\, Gneisenaustraße 27\, Berlin\, 10961\, Germany
CATEGORIES:interactive workshop
ATTACH;FMTTYPE=image/jpeg:https://mytrainer.cc/wp-content/uploads/2020/02/https___cdn.evbuc_.com_images_90524783_271357220468_1_original.jpeg
ORGANIZER;CN="MYTRAINER":MAILTO:antonis@mytrainer.cc
END:VEVENT
BEGIN:VEVENT
DTSTART;TZID=Europe/Berlin:20190518T110000
DTEND;TZID=Europe/Berlin:20190518T160000
DTSTAMP:20260424T121743
CREATED:20190412T152510Z
LAST-MODIFIED:20191230T181251Z
UID:223566-1558177200-1558195200@mytrainer.cc
SUMMARY:Build your Guild!
DESCRIPTION:From solo players to teams using gamification and positive psychology! \nAre your employees not motivated to do their work? Is the performance of your team stagnating\, even though they have the skills you were looking for? Does your team seem to not be able to work as…a team? \nWhat if the answer lies in considering the character strengths in your team instead of only assessing their technical competences? What if there was a method to identify and match the people in your team in a way that guarantees they can work together? And what if you could take that even further by developing a playful environment for your team to be happy and motivated to come to work every day\, boosting their productivity from within?! \nTap into the secrets of positive psychology and gamification by working with experts in optimal human functioning\, motivation and growth and transform your working environment into a playground where teams thrive! \nPositive Psychology is a “scientifically-rooted approach\, helping individuals\, groups and communities increase well-being\, enhance and apply strengths\, improve performance and achieve valued goals”. As a systemic positive psychology coach\, Martyna Lochstet works with evidence-based concepts and interventions to achieve positive and sustainable changes in your life and work. She founded Senshi Coaching in order to bridge the gap between nerds and normies as a systemic positive psychology coach. \nGamification stands for “applying game-design elements and game principles in non-game contexts”. Antonis Triantafyllakis has been studying and using gamification in the field of learning and development for the past two years. With a background that combines over a decade of experience in youth work with design\, stage performance and IT\, he can ensure a holistic\, playful and impactful approach to training\, easily adaptable to your needs. He founded MYTRAINER to combine his passion for experiential learning and gamification\, and assist people to develop skills for the 21st century. \nWhat you’ll learn and experience \n\nCutting-edge research on character strengths\, motivation and work satisfaction\nHow to identify character strengths and why strength awareness is essential for your team to be able to work together and thrive\nHow to boost the motivation of your team using gamification and positive psychology in your workplace\nHow to ensure employee retainment and increase productivity through a long-term plan of workplace gamification\, linked to the character strengths in your team\nHow to evaluate and adapt your strategy around positive psychology and gamification to optimise the outcomes and ensure growth\n\nHow you’ll learn\nThis will be an intensive interactive workshop\, so you’ll be introduced to positive psychology and gamification in learning by doing manner. Do not expect a passive\, boring presentation; come ready for action! Marty and Antonis are both highly experienced in the methodologies of experiential learning and are able to practice what they preach\, so expect a gamified and positive learning environment that will keep you engaged\, while ensuring you’ll retain the knowledge you’ll be gaining in the workshop and you’ll be ready to put it to practice in your work. \nTarget audience\nProfessionals involved in HR management\, development\, recruitment and change management. \nAgenda \n\nIntroduction to character strengths\, motivation and work satisfaction\nMethods for identifying character strengths on individual employees\nIntroduction to gamification and positive psychology in the workplace\nStrategic planning around gamification\, linked to individual character strengths\nPlanning a growth based evaluation and follow-up within your strategic plan\n\nJoin us at eifas (Saarbrücker Straße 20/21\, 10405) on Saturday\, May 18th\, at 11:00 for an intensive and exciting 5-hour long workshop! \n \nREGISTER NOW and start building your guild!\nLimited to 12 participants only! \n[raw] \n\n \n[/raw] \nThis interactive workshop is a collaboration between Senshi Coaching and MYTRAINER.
URL:https://mytrainer.cc/event/build-your-guild/
LOCATION:efias\, Saarbrücker Straße 20/21\, Berlin\, Berlin\, 10405\, Germany
CATEGORIES:interactive workshop
ATTACH;FMTTYPE=image/jpeg:https://mytrainer.cc/wp-content/uploads/2019/04/buildyourguild.jpg
ORGANIZER;CN="MYTRAINER":MAILTO:antonis@mytrainer.cc
END:VEVENT
BEGIN:VEVENT
DTSTART;TZID=Europe/Berlin:20190302T110000
DTEND;TZID=Europe/Berlin:20190302T160000
DTSTAMP:20260424T121743
CREATED:20190209T110223Z
LAST-MODIFIED:20241029T053640Z
UID:223368-1551524400-1551542400@mytrainer.cc
SUMMARY:Gamification for Learning Professionals
DESCRIPTION:Have you ever wondered why students would rather play a video game than attend class?\nWhy employees would check their phones during a presentation of their HR Manager?\nWhat motivates people to take action and why is that action not always linked to learning and development?\nMore importantly\, how can you take advantage of what makes games so engaging and put that into L&D? \nGamification stands for “applying game-design elements and game principles in non-game contexts” and this is what you will learn in this event.\nAntonis is using gamification in the field of L&D and has prepared an interactive workshop in which you’ll get introduced to gamification in practice. \nWhat you will learn: \n\nWhat is gamification\, how did it come to be and where has it been applied.\nWhat motivates people to take action and how to trigger motivation.\nHow to apply gamification and behavioral design in L&D.\nHow to apply gamification on YOUR OWN L&D needs.\n\nHow you’ll learn:\nThis will be an intensive interactive workshop\, so you’ll be introduced to gamification in learning by doing manner. Do not expect a passive\, boring presentation; come ready for action!\nWe will also use a blended learning methodology\, so come with a device you feel comfortable using that can connect to WiFi (smartphone\, tablet or laptop). \nTarget audience:\nTrainers\, coaches\, teachers\, university lecturers\, HR managers\, learning & development managers. \nAgenda: \n\nIntroduction to gamification and related frameworks.\nYour own L&D needs and how gamification can be part of the solution.\nPLAY TIME! Or learning how to apply gamification by just doing it.\nLUNCH (provided )\nDeveloping prototypes for applying gamification in your real-life L&D practice.\nDeveloping an action plan tailored to your L&D needs!\n\nThis is an intensive 5-hour long workshop on actionable gamification\, limited to 12 motivated attendees who aim to solve real L&D challenges from their practice. Attending this workshop means committing to actively participate in the workshop\, including a prior needs analysis and follow-up plan. \nGet your tickets NOW! Limited to 12 participants only! \n \nBONUS!! 1hr follow-up 1-1 session with the trainer (worth €100) valid for 1 month after the workshop! The event is proudly hosted by BERLEARN and the Trainers\, Coaches and Consultants Tribe.
URL:https://mytrainer.cc/event/gamification-ld/
LOCATION:Kontist\, Schönhauser Allee 149\, Berlin\, 10435\, Germany
CATEGORIES:interactive workshop
ATTACH;FMTTYPE=image/png:https://mytrainer.cc/wp-content/uploads/2019/02/gampaid.png
ORGANIZER;CN="MYTRAINER":MAILTO:antonis@mytrainer.cc
END:VEVENT
BEGIN:VEVENT
DTSTART;TZID=Europe/Berlin:20190220T193000
DTEND;TZID=Europe/Berlin:20190220T223000
DTSTAMP:20260424T121743
CREATED:20190213T095043Z
LAST-MODIFIED:20241029T053835Z
UID:223389-1550691000-1550701800@mytrainer.cc
SUMMARY:Living or Coping in the 21st Century?
DESCRIPTION:Globally linked by our fingertips\, sharing more knowledge than ever\, yet at the same time all those world & social issues are not getting less. And while all those amazing digital tools and communication apps link us globally\, we interact less with the people right next to us. \nWe often feel bombarded every day with information and institutions we don’t really understand. And while stalling technological progress isn’t the answer\, the younger generation tells us they’re having trouble landing job opportunities\, let alone living their life missions and dreams. And strangely enough\, having higher education seems to have no correlation to greater leadership. \nSo\, does the way we communicate\, work and learn change too fast for us to adapt?! Do we dare to question ourselves sincerely whether we are living or merely coping in the 21st century? \nCome and discuss with like-minded individuals in a structured dialogue facilitated by MYTRAINER and CO-Happening! \nJoin us at be’kech on Wednesday\, 20th of February at 7.30pm.
URL:https://mytrainer.cc/event/living-coping-21st-century/
LOCATION:be’kech\, Exerzierstrasse 14\, Berlin\, 13357\, Germany
CATEGORIES:structured dialogue
ATTACH;FMTTYPE=image/png:https://mytrainer.cc/wp-content/uploads/2019/02/lw21.png
ORGANIZER;CN="MYTRAINER":MAILTO:antonis@mytrainer.cc
END:VEVENT
BEGIN:VEVENT
DTSTART;TZID=Europe/Berlin:20181216T173000
DTEND;TZID=Europe/Berlin:20181216T203000
DTSTAMP:20260424T121743
CREATED:20181203T131640Z
LAST-MODIFIED:20241029T053720Z
UID:223-1544981400-1544992200@mytrainer.cc
SUMMARY:Navigating through #FakeNews
DESCRIPTION:Another extraordinary claim in your newsfeed\, another appeal to emotion in the era of post-truth politics; another challenge to your critical thinking skills…\nHow to deal with it all? How to recognise and differentiate between fake news and news you don’t like? What practical ways are there to check your news sources and be an informed citizen without falling prey to common logical fallacies used in the media and even your own confirmation bias?\nCome to a workshop full of interactive exercises that will help you do just that! Navigate through your social media\, spot fake news and stay informed and ready to act based on truth! \nWhat you’ll learn\n\nDistinguish between (fake?) news and other types of information;\nEvaluate the credibility of claims of information present in social media;\nIdentify psychological biases and logical fallacies that influence how we interpret information;\nCritically examine a news story and identify how it was produced.\n\nHow you’ll learn\nThe workshop will be based on experiential learning methods; meaning it will be highly interactive and you will be learning by doing. Attending this workshop means committing to actively participate and being ready to work in a mixed group of participants\, share your knowledge and learn from everyone involved\, through an insightful and playful process carefully designed by the experienced trainer holding the workshop. In other words\, come prepared to have fun while learning! \nWhat to bring with you\n\nA device that can access the internet (smartphone\, tablet or laptop);\nA means for keeping notes that you feel comfortable with (your smartphone or a notebook and a pen);\nA collaborative spirit and eagerness to learn!\n\nThe workshop will take place at LIANE (Karl-Marx-Straße 17\, 12043\, Berlin)\,\non Sunday\, December 16\, at 17:30-20:30.\nRegistration will start at 17:15\, so please be on time! \nPromote the event and make some money!\nJoin the affiliate program for the workshop through this link and earn 5% of the tickets you’ll be selling! That’s a simple thank you for making sure more people develop critical thinking skills through this workshop. Certificates of attendance will be provided and there will also be time for an open discussion after the workshop. Coffee and tea is included in the price. \nSee you soon at LIANE\, the Bright Urban Jungle of Neukölln!
URL:https://mytrainer.cc/event/fakenewsberlin1/
LOCATION:LIANE\, Karl-Marx-Straße 17\, Berlin\, 10243\, Germany
CATEGORIES:interactive workshop
ATTACH;FMTTYPE=image/png:https://mytrainer.cc/wp-content/uploads/2018/12/fakenewsberlin-1.png
ORGANIZER;CN="MYTRAINER":MAILTO:antonis@mytrainer.cc
END:VEVENT
END:VCALENDAR